BEGIN:VCALENDAR
VERSION:2.0
PRODID:-//International Accreditation Service, Inc. - ECPv6.3.7//NONSGML v1.0//EN
CALSCALE:GREGORIAN
METHOD:PUBLISH
X-WR-CALNAME:International Accreditation Service, Inc.
X-ORIGINAL-URL:https://www.iasonline.org
X-WR-CALDESC:Events for International Accreditation Service, Inc.
REFRESH-INTERVAL;VALUE=DURATION:PT1H
X-Robots-Tag:noindex
X-PUBLISHED-TTL:PT1H
BEGIN:VTIMEZONE
TZID:America/Los_Angeles
BEGIN:DAYLIGHT
TZOFFSETFROM:-0800
TZOFFSETTO:-0700
TZNAME:PDT
DTSTART:20250309T100000
END:DAYLIGHT
BEGIN:STANDARD
TZOFFSETFROM:-0700
TZOFFSETTO:-0800
TZNAME:PST
DTSTART:20251102T090000
END:STANDARD
BEGIN:DAYLIGHT
TZOFFSETFROM:-0800
TZOFFSETTO:-0700
TZNAME:PDT
DTSTART:20260308T100000
END:DAYLIGHT
BEGIN:STANDARD
TZOFFSETFROM:-0700
TZOFFSETTO:-0800
TZNAME:PST
DTSTART:20261101T090000
END:STANDARD
END:VTIMEZONE
BEGIN:VEVENT
DTSTART;VALUE=DATE:20251224
DTEND;VALUE=DATE:20260102
DTSTAMP:20260424T030023
CREATED:20231220T205215Z
LAST-MODIFIED:20251218T224046Z
UID:102589-1766534400-1767311999@www.iasonline.org
SUMMARY:Happy Holidays and Happy New Year from IAS
DESCRIPTION:In observance of the upcoming Holidays\, IAS offices will be closed December 24 – January 1 and responses may be delayed. \n \n 
URL:https://www.iasonline.org/event/happy-holidays-and-happy-new-year-from-ias/
CATEGORIES:Event
END:VEVENT
BEGIN:VEVENT
DTSTART;VALUE=DATE:20260119
DTEND;VALUE=DATE:20260120
DTSTAMP:20260424T030023
CREATED:20250116T002151Z
LAST-MODIFIED:20260115T181232Z
UID:107459-1768780800-1768867199@www.iasonline.org
SUMMARY:IAS Office Closed for Martin Luther King\, Jr. Day
DESCRIPTION:In observance of Martin Luther King Day Jr. Day\, the IAS office in Brea\, California is closed Monday\, January 19th\, 2026. IAS will re-open on Tuesday\, January 20th.
URL:https://www.iasonline.org/event/ias-office-closed-for-martin-luther-king-jr-day-2/
END:VEVENT
END:VCALENDAR